BEGIN:VCALENDAR
VERSION:2.0
PRODID:-//Warwick and Leamington Beekeepers - ECPv6.15.20//NONSGML v1.0//EN
CALSCALE:GREGORIAN
METHOD:PUBLISH
X-ORIGINAL-URL:https://warleambees.org.uk
X-WR-CALDESC:Events for Warwick and Leamington Beekeepers
REFRESH-INTERVAL;VALUE=DURATION:PT1H
X-Robots-Tag:noindex
X-PUBLISHED-TTL:PT1H
BEGIN:VTIMEZONE
TZID:Europe/London
BEGIN:DAYLIGHT
TZOFFSETFROM:+0000
TZOFFSETTO:+0100
TZNAME:BST
DTSTART:20250330T010000
END:DAYLIGHT
BEGIN:STANDARD
TZOFFSETFROM:+0100
TZOFFSETTO:+0000
TZNAME:GMT
DTSTART:20251026T010000
END:STANDARD
BEGIN:DAYLIGHT
TZOFFSETFROM:+0000
TZOFFSETTO:+0100
TZNAME:BST
DTSTART:20260329T010000
END:DAYLIGHT
BEGIN:STANDARD
TZOFFSETFROM:+0100
TZOFFSETTO:+0000
TZNAME:GMT
DTSTART:20261025T010000
END:STANDARD
BEGIN:DAYLIGHT
TZOFFSETFROM:+0000
TZOFFSETTO:+0100
TZNAME:BST
DTSTART:20270328T010000
END:DAYLIGHT
BEGIN:STANDARD
TZOFFSETFROM:+0100
TZOFFSETTO:+0000
TZNAME:GMT
DTSTART:20271031T010000
END:STANDARD
END:VTIMEZONE
BEGIN:VEVENT
DTSTART;TZID=Europe/London:20260510T093000
DTEND;TZID=Europe/London:20260510T163000
DTSTAMP:20260424T161644
CREATED:20260110T121144Z
LAST-MODIFIED:20260111T092017Z
UID:13764-1778405400-1778430600@warleambees.org.uk
SUMMARY:Preparing for Honey Bee Health Certificate (1of2)
DESCRIPTION:Attendees: Members \nDates: Sunday 10 May and Sunday 24 May 2026 \nLocation: Eathorpe Village Hall and a local apiary (CV33 9DE)\nCost: £10 (to cover refreshments) \nDay 1 of 2 \nThis two-day course is designed for beekeepers who already hold the BBKA Basic Assessment and are preparing for the Honey Bee Health Certificate. \nThe course is valuable for any beekeeper who wants to deepen their understanding of bee health. It covers: \n\nThe major health challenges facing honey bees\nRecognition of disease and pests\nGood husbandry and management practices\nBuilding confidence in assessing colony health\n\nThese sessions are a chance to meet other beekeepers\, discuss common challenges\, and make links within the Association. \nThe full syllabus for the Honey Bee Health Certificate is available via the BBKA Member Hub:\n View Honey Bee Health Certificate syllabus \n Join here \nParticipants must bring: \n\nA clean bee suit\nClean gloves\nClean wellington boots\nA packed lunch\n\nThis is essential for good biosecurity and for making the most of the full day.
URL:https://warleambees.org.uk/event/preparing-for-honey-bee-health-certificate/
LOCATION:Eathorpe Village Hall\, Eathorpe\, Leamington Spa\, CV33 9DE\, United Kingdom
ORGANIZER;CN="Jane Medwell":MAILTO:education@warleambees.org.uk
END:VEVENT
BEGIN:VEVENT
DTSTART;VALUE=DATE:20260516
DTEND;VALUE=DATE:20260517
DTSTAMP:20260424T161644
CREATED:20260318T204210Z
LAST-MODIFIED:20260318T204210Z
UID:13910-1778889600-1778975999@warleambees.org.uk
SUMMARY:Stoneleigh Orchard
DESCRIPTION:Attendees: Public \nTime and details to follow \n 
URL:https://warleambees.org.uk/event/stoneleigh-orchard-2/
ORGANIZER;CN="Chris Price":MAILTO:shows@warleambees.org.uk
END:VEVENT
BEGIN:VEVENT
DTSTART;TZID=Europe/London:20260524T093000
DTEND;TZID=Europe/London:20260524T163000
DTSTAMP:20260424T161644
CREATED:20260110T121508Z
LAST-MODIFIED:20260111T092005Z
UID:13768-1779615000-1779640200@warleambees.org.uk
SUMMARY:Preparing for Honey Bee Health Certificate (2of2)
DESCRIPTION:Attendees: Members \nDates: Sunday 10 May and Sunday 24 May 2026 \nLocation: Eathorpe Village Hall and a local apiary (CV33 9DE)\nCost: £10 (to cover refreshments) \nDay 2 of 2 \nThis two-day course is designed for beekeepers who already hold the BBKA Basic Assessment and are preparing for the Honey Bee Health Certificate. \nThe course is valuable for any beekeeper who wants to deepen their understanding of bee health. It covers: \n\nThe major health challenges facing honey bees\nRecognition of disease and pests\nGood husbandry and management practices\nBuilding confidence in assessing colony health\n\nThese sessions are a chance to meet other beekeepers\, discuss common challenges\, and make links within the Association. \nThe full syllabus for the Honey Bee Health Certificate is available via the BBKA Member Hub:\n View Honey Bee Health Certificate syllabus \n  \nWhat to Bring \nParticipants must bring: \n\nA clean bee suit\nClean gloves\nClean wellington boots\nA packed lunch\n\nThis is essential for good biosecurity and for making the most of the full day.
URL:https://warleambees.org.uk/event/preparing-for-honey-bee-health-certificate-2/
LOCATION:Eathorpe Village Hall\, Eathorpe\, Leamington Spa\, CV33 9DE\, United Kingdom
ORGANIZER;CN="Jane Medwell":MAILTO:education@warleambees.org.uk
END:VEVENT
BEGIN:VEVENT
DTSTART;VALUE=DATE:20260527
DTEND;VALUE=DATE:20260528
DTSTAMP:20260424T161644
CREATED:20260318T204318Z
LAST-MODIFIED:20260318T204318Z
UID:13912-1779840000-1779926399@warleambees.org.uk
SUMMARY:Ryton Pools
DESCRIPTION:Attendees: Public \nTime and details to follow \n 
URL:https://warleambees.org.uk/event/ryton-pools/
ORGANIZER;CN="Chris Price":MAILTO:shows@warleambees.org.uk
END:VEVENT
END:VCALENDAR