BEGIN:VCALENDAR
VERSION:2.0
PRODID:-//Warwick and Leamington Beekeepers - ECPv6.15.20//NONSGML v1.0//EN
CALSCALE:GREGORIAN
METHOD:PUBLISH
X-ORIGINAL-URL:https://warleambees.org.uk
X-WR-CALDESC:Events for Warwick and Leamington Beekeepers
REFRESH-INTERVAL;VALUE=DURATION:PT1H
X-Robots-Tag:noindex
X-PUBLISHED-TTL:PT1H
BEGIN:VTIMEZONE
TZID:Europe/London
BEGIN:DAYLIGHT
TZOFFSETFROM:+0000
TZOFFSETTO:+0100
TZNAME:BST
DTSTART:20240331T010000
END:DAYLIGHT
BEGIN:STANDARD
TZOFFSETFROM:+0100
TZOFFSETTO:+0000
TZNAME:GMT
DTSTART:20241027T010000
END:STANDARD
BEGIN:DAYLIGHT
TZOFFSETFROM:+0000
TZOFFSETTO:+0100
TZNAME:BST
DTSTART:20250330T010000
END:DAYLIGHT
BEGIN:STANDARD
TZOFFSETFROM:+0100
TZOFFSETTO:+0000
TZNAME:GMT
DTSTART:20251026T010000
END:STANDARD
BEGIN:DAYLIGHT
TZOFFSETFROM:+0000
TZOFFSETTO:+0100
TZNAME:BST
DTSTART:20260329T010000
END:DAYLIGHT
BEGIN:STANDARD
TZOFFSETFROM:+0100
TZOFFSETTO:+0000
TZNAME:GMT
DTSTART:20261025T010000
END:STANDARD
END:VTIMEZONE
BEGIN:VEVENT
DTSTART;TZID=Europe/London:20251011T110000
DTEND;TZID=Europe/London:20251012T160000
DTSTAMP:20260425T000257
CREATED:20250414T221046Z
LAST-MODIFIED:20250509T213549Z
UID:12816-1760180400-1760284800@warleambees.org.uk
SUMMARY:Apple and Country Fair Weekend
DESCRIPTION:Attendees: Public \nHill Close Gardens annual celebration of their apple harvest \n \nThis is a 2-day event where we will be offering Information\, honey sales and tasting\, Little Buzzers activities for younger children and candle rolling for the visitors. \nActivities \n\nInformation\nHoney Sales\nHoney Tasting\nObservation Hive\nLittle Buzzers – Life cycle of bee\, Insect identification\, Pollen collecting game\, Anatomy of a flying insect (asian Hornet) puzzle\, Colouring\, Card designs\, Badge making\, Fact hunt\nCandle Rolling
URL:https://warleambees.org.uk/event/hill-close-gardens-apple-day/
LOCATION:Hill Close Gardens\, Warwick\, CV34 6HF\, United Kingdom
CATEGORIES:Shows
ORGANIZER;CN="Chris Price":MAILTO:shows@warleambees.org.uk
END:VEVENT
BEGIN:VEVENT
DTSTART;TZID=Europe/London:20251016T193000
DTEND;TZID=Europe/London:20251016T213000
DTSTAMP:20260425T000257
CREATED:20250225T110412Z
LAST-MODIFIED:20251011T221521Z
UID:12531-1760643000-1760650200@warleambees.org.uk
SUMMARY:October Members Meeting
DESCRIPTION:Content is protected.
URL:https://warleambees.org.uk/event/october-members-meeting/
LOCATION:Kenilworth Senior Citizens Club\, Abbey End\, Kenilworth\, CV8 1QJ\, United Kingdom
CATEGORIES:Members Meeting
ORGANIZER;CN="Judith Masson":MAILTO:meetings@warleambees.org.uk
END:VEVENT
BEGIN:VEVENT
DTSTART;TZID=Europe/London:20251020T193000
DTEND;TZID=Europe/London:20251020T213000
DTSTAMP:20260425T000257
CREATED:20250808T214722Z
LAST-MODIFIED:20250808T214722Z
UID:13403-1760988600-1760995800@warleambees.org.uk
SUMMARY:Branch Committee Meeting
DESCRIPTION:Content is protected.
URL:https://warleambees.org.uk/event/branch-committee-meeting-5/
LOCATION:BBKA Headquarters\, British Beekeepers Association\, Stoneleigh\, CV8 2LG\, United Kingdom
CATEGORIES:Committee Meeting
ORGANIZER;CN="Chris Cox":MAILTO:secretary@warleambees.org.uk
END:VEVENT
END:VCALENDAR