BEGIN:VCALENDAR
VERSION:2.0
PRODID:-//Warwick and Leamington Beekeepers - ECPv6.15.20//NONSGML v1.0//EN
CALSCALE:GREGORIAN
METHOD:PUBLISH
X-ORIGINAL-URL:https://warleambees.org.uk
X-WR-CALDESC:Events for Warwick and Leamington Beekeepers
REFRESH-INTERVAL;VALUE=DURATION:PT1H
X-Robots-Tag:noindex
X-PUBLISHED-TTL:PT1H
BEGIN:VTIMEZONE
TZID:Europe/London
BEGIN:DAYLIGHT
TZOFFSETFROM:+0000
TZOFFSETTO:+0100
TZNAME:BST
DTSTART:20240331T010000
END:DAYLIGHT
BEGIN:STANDARD
TZOFFSETFROM:+0100
TZOFFSETTO:+0000
TZNAME:GMT
DTSTART:20241027T010000
END:STANDARD
BEGIN:DAYLIGHT
TZOFFSETFROM:+0000
TZOFFSETTO:+0100
TZNAME:BST
DTSTART:20250330T010000
END:DAYLIGHT
BEGIN:STANDARD
TZOFFSETFROM:+0100
TZOFFSETTO:+0000
TZNAME:GMT
DTSTART:20251026T010000
END:STANDARD
BEGIN:DAYLIGHT
TZOFFSETFROM:+0000
TZOFFSETTO:+0100
TZNAME:BST
DTSTART:20260329T010000
END:DAYLIGHT
BEGIN:STANDARD
TZOFFSETFROM:+0100
TZOFFSETTO:+0000
TZNAME:GMT
DTSTART:20261025T010000
END:STANDARD
END:VTIMEZONE
BEGIN:VEVENT
DTSTART;TZID=Europe/London:20250709T190000
DTEND;TZID=Europe/London:20250709T210000
DTSTAMP:20260425T045601
CREATED:20250518T225938Z
LAST-MODIFIED:20250708T171624Z
UID:13032-1752087600-1752094800@warleambees.org.uk
SUMMARY:Warwickshire Lavender Farm
DESCRIPTION:Content is protected.
URL:https://warleambees.org.uk/event/warwickshire-lavender-farm-2/
LOCATION:Warwickshire Lavender Farm\, Watery Lane\, Bubbenhall\, CV8 3BQ\, United Kingdom
CATEGORIES:Visits
ORGANIZER;CN="Judith Masson":MAILTO:meetings@warleambees.org.uk
END:VEVENT
BEGIN:VEVENT
DTSTART;TZID=Europe/London:20250724T180000
DTEND;TZID=Europe/London:20250724T200000
DTSTAMP:20260425T045601
CREATED:20250619T222339Z
LAST-MODIFIED:20250721T215055Z
UID:13317-1753380000-1753387200@warleambees.org.uk
SUMMARY:Bee Safari 2
DESCRIPTION:Content is protected.
URL:https://warleambees.org.uk/event/bee-safari-2/
CATEGORIES:Visits
ORGANIZER;CN="Judith Masson":MAILTO:meetings@warleambees.org.uk
END:VEVENT
END:VCALENDAR