BEGIN:VCALENDAR
VERSION:2.0
PRODID:-//Warwick and Leamington Beekeepers - ECPv6.15.20//NONSGML v1.0//EN
CALSCALE:GREGORIAN
METHOD:PUBLISH
X-WR-CALNAME:Warwick and Leamington Beekeepers
X-ORIGINAL-URL:https://warleambees.org.uk
X-WR-CALDESC:Events for Warwick and Leamington Beekeepers
REFRESH-INTERVAL;VALUE=DURATION:PT1H
X-Robots-Tag:noindex
X-PUBLISHED-TTL:PT1H
BEGIN:VTIMEZONE
TZID:Europe/London
BEGIN:DAYLIGHT
TZOFFSETFROM:+0000
TZOFFSETTO:+0100
TZNAME:BST
DTSTART:20240331T010000
END:DAYLIGHT
BEGIN:STANDARD
TZOFFSETFROM:+0100
TZOFFSETTO:+0000
TZNAME:GMT
DTSTART:20241027T010000
END:STANDARD
BEGIN:DAYLIGHT
TZOFFSETFROM:+0000
TZOFFSETTO:+0100
TZNAME:BST
DTSTART:20250330T010000
END:DAYLIGHT
BEGIN:STANDARD
TZOFFSETFROM:+0100
TZOFFSETTO:+0000
TZNAME:GMT
DTSTART:20251026T010000
END:STANDARD
BEGIN:DAYLIGHT
TZOFFSETFROM:+0000
TZOFFSETTO:+0100
TZNAME:BST
DTSTART:20260329T010000
END:DAYLIGHT
BEGIN:STANDARD
TZOFFSETFROM:+0100
TZOFFSETTO:+0000
TZNAME:GMT
DTSTART:20261025T010000
END:STANDARD
END:VTIMEZONE
BEGIN:VEVENT
DTSTART;TZID=Europe/London:20250320T193000
DTEND;TZID=Europe/London:20250320T213000
DTSTAMP:20260425T013620
CREATED:20250225T104922Z
LAST-MODIFIED:20251119T113809Z
UID:12517-1742499000-1742506200@warleambees.org.uk
SUMMARY:Hive in the sky
DESCRIPTION:Content is protected.
URL:https://warleambees.org.uk/event/hive-in-the-sky/
LOCATION:Kenilworth Senior Citizens Club\, Abbey End\, Kenilworth\, CV8 1QJ\, United Kingdom
CATEGORIES:Members Meeting
ORGANIZER;CN="Judith Masson":MAILTO:meetings@warleambees.org.uk
END:VEVENT
BEGIN:VEVENT
DTSTART;TZID=Europe/London:20250317T193000
DTEND;TZID=Europe/London:20250317T213000
DTSTAMP:20260425T013620
CREATED:20250319T230445Z
LAST-MODIFIED:20251119T113746Z
UID:12631-1742239800-1742247000@warleambees.org.uk
SUMMARY:Branch Committee Meeting
DESCRIPTION:Content is protected.
URL:https://warleambees.org.uk/event/branch-committee-meeting-3/
LOCATION:BBKA Headquarters\, British Beekeepers Association\, Stoneleigh\, CV8 2LG\, United Kingdom
CATEGORIES:Committee Meeting
ORGANIZER;CN="Chris Cox":MAILTO:secretary@warleambees.org.uk
END:VEVENT
BEGIN:VEVENT
DTSTART;TZID=Europe/London:20250308T100000
DTEND;TZID=Europe/London:20250308T150000
DTSTAMP:20260425T013620
CREATED:20250227T115715Z
LAST-MODIFIED:20250319T224704Z
UID:12601-1741428000-1741446000@warleambees.org.uk
SUMMARY:Craft Demonstration Day
DESCRIPTION:Attendees: Public\n\nA range of craftworkers will be demonstrating their work.\n\nIt will include bee skep making demonstrated by Mike Townsend and Peter Reeve
URL:https://warleambees.org.uk/event/craft-demonstration-day/
LOCATION:Market Hall Museum\, Market Place\, Warwick\, CV34 4SA\, United Kingdom
CATEGORIES:Shows
ORGANIZER;CN="Mike Townsend":MAILTO:michaelatownsend@hotmail.com
END:VEVENT
BEGIN:VEVENT
DTSTART;TZID=Europe/London:20250220T073000
DTEND;TZID=Europe/London:20250220T210000
DTSTAMP:20260425T013620
CREATED:20250219T130255Z
LAST-MODIFIED:20251119T113726Z
UID:12481-1740036600-1740085200@warleambees.org.uk
SUMMARY:Branch Annual General Meeting
DESCRIPTION:Content is protected.
URL:https://warleambees.org.uk/event/branch-annual-general-meeting/
LOCATION:Kenilworth Senior Citizens Club\, Abbey End\, Kenilworth\, CV8 1QJ\, United Kingdom
CATEGORIES:AGM
ORGANIZER;CN="Judith Masson":MAILTO:meetings@warleambees.org.uk
END:VEVENT
END:VCALENDAR