BEGIN:VCALENDAR
VERSION:2.0
PRODID:-//Warwick and Leamington Beekeepers - ECPv6.15.20//NONSGML v1.0//EN
CALSCALE:GREGORIAN
METHOD:PUBLISH
X-WR-CALNAME:Warwick and Leamington Beekeepers
X-ORIGINAL-URL:https://warleambees.org.uk
X-WR-CALDESC:Events for Warwick and Leamington Beekeepers
REFRESH-INTERVAL;VALUE=DURATION:PT1H
X-Robots-Tag:noindex
X-PUBLISHED-TTL:PT1H
BEGIN:VTIMEZONE
TZID:Europe/London
BEGIN:DAYLIGHT
TZOFFSETFROM:+0000
TZOFFSETTO:+0100
TZNAME:BST
DTSTART:20240331T010000
END:DAYLIGHT
BEGIN:STANDARD
TZOFFSETFROM:+0100
TZOFFSETTO:+0000
TZNAME:GMT
DTSTART:20241027T010000
END:STANDARD
BEGIN:DAYLIGHT
TZOFFSETFROM:+0000
TZOFFSETTO:+0100
TZNAME:BST
DTSTART:20250330T010000
END:DAYLIGHT
BEGIN:STANDARD
TZOFFSETFROM:+0100
TZOFFSETTO:+0000
TZNAME:GMT
DTSTART:20251026T010000
END:STANDARD
BEGIN:DAYLIGHT
TZOFFSETFROM:+0000
TZOFFSETTO:+0100
TZNAME:BST
DTSTART:20260329T010000
END:DAYLIGHT
BEGIN:STANDARD
TZOFFSETFROM:+0100
TZOFFSETTO:+0000
TZNAME:GMT
DTSTART:20261025T010000
END:STANDARD
END:VTIMEZONE
BEGIN:VEVENT
DTSTART;TZID=Europe/London:20250531T090000
DTEND;TZID=Europe/London:20250531T173000
DTSTAMP:20260424T234520
CREATED:20250414T214135Z
LAST-MODIFIED:20250521T183208Z
UID:12791-1748682000-1748712600@warleambees.org.uk
SUMMARY:Kenilworth Show
DESCRIPTION:Attendees: Public \nCoventry and Warwickshires largest one day agricultural show. \n \nThis is one of our biggest events in the year\, with 3 large marquees\, plus a demonstration tent holding flying bees.  There will be honey sales and tasting and an observation hive.  Visitors can make a candle from a sheet of bees wax and also watch how a skep is constructed. \nThere will be information and a large area for Little Buzzers\, where younger visitors will learn about bees through age-appropriate games. \nActivities \n\nInformation\nHoney Sales\nHoney Tasting\nObservation Hive\nLittle Buzzers – Life cycle of bee\, Insect identification\, Pollen collecting game\, Anatomy of a flying insect (asian Hornet) puzzle\, Colouring\, Card designs\, Badge making\, Fact hunt\nFlying Bees\nCandle Rolling\nSkep Making\n\nLocation: Between Stoneleigh and the A46.   What3words – ///verse.engage.shed
URL:https://warleambees.org.uk/event/guys-cliffe/
LOCATION:Kenilworth Show
CATEGORIES:Shows
ORGANIZER;CN="Chris Price":MAILTO:shows@warleambees.org.uk
END:VEVENT
BEGIN:VEVENT
DTSTART;TZID=Europe/London:20250520T120000
DTEND;TZID=Europe/London:20250520T140000
DTSTAMP:20260424T234520
CREATED:20250507T211858Z
LAST-MODIFIED:20250507T213342Z
UID:12956-1747742400-1747749600@warleambees.org.uk
SUMMARY:Aston Martin
DESCRIPTION:Attendees: Aston Martin Employees only \n \nActivities \n\nInformation\nHoney Sales\nHoney Tasting\nObservation Hive
URL:https://warleambees.org.uk/event/aston-martin/
LOCATION:Aston Martin
CATEGORIES:Shows
ORGANIZER;CN="Chris Price":MAILTO:shows@warleambees.org.uk
END:VEVENT
BEGIN:VEVENT
DTSTART;TZID=Europe/London:20250517T143000
DTEND;TZID=Europe/London:20250517T163000
DTSTAMP:20260424T234520
CREATED:20250414T214414Z
LAST-MODIFIED:20250507T211620Z
UID:12794-1747492200-1747499400@warleambees.org.uk
SUMMARY:Stoneleigh Orchard Blossom Festival
DESCRIPTION:Attendees: Public \nA traditional village fete at Stoneleigh Orchard that is run and cared for by a dedicated group of locals\, who plough the profits from the cider they produce back into the local area. \n \nActivities \n\nInformation\nHoney Sales\nHoney Tasting\nObservation Hive\n\n 
URL:https://warleambees.org.uk/event/stoneleigh-orchard/
LOCATION:Stoneleigh Orchard\, Church Lane\, Stoneleigh\, CV8 3DN\, United Kingdom
CATEGORIES:Shows
ORGANIZER;CN="Chris Price":MAILTO:shows@warleambees.org.uk
END:VEVENT
BEGIN:VEVENT
DTSTART;TZID=Europe/London:20250517T103000
DTEND;TZID=Europe/London:20250518T033000
DTSTAMP:20260424T234520
CREATED:20250414T214933Z
LAST-MODIFIED:20250509T204818Z
UID:12802-1747477800-1747539000@warleambees.org.uk
SUMMARY:Guy's Cliffe Walled Gardens
DESCRIPTION:Attendees: Public \nCelebrating World Bee Day \n \nThis event is\, as the title suggests – a world wide event\, celebrating not just honey bees but every kind of bee throughout the world.  There will be great emphasis on educating the younger generation through our Little Buzzers event and we will have honey sales and honey tasting\, an observation hive and information. \nActivities \n\nInformation\nHoney Sales\nHoney Tasting\nObservation Hive\nLittle Buzzers – Life cycle of bee\, Insect identification\, Pollen collecting game\, Anatomy of a flying insect (asian Hornet) puzzle\, Colouring\, Card designs\, Badge making\, Fact hunt\n\n 
URL:https://warleambees.org.uk/event/guys-cliffe-walled-gardens/
LOCATION:Guys’s Cliffe Walled Gardens\, Coventry Road\, Guy's Cliffe\, CV34 5FJ\, United Kingdom
CATEGORIES:Shows
ORGANIZER;CN="Chris Price":MAILTO:shows@warleambees.org.uk
END:VEVENT
BEGIN:VEVENT
DTSTART;TZID=Europe/London:20250509T193000
DTEND;TZID=Europe/London:20250509T203000
DTSTAMP:20260424T234520
CREATED:20250503T185420Z
LAST-MODIFIED:20250503T185501Z
UID:12923-1746819000-1746822600@warleambees.org.uk
SUMMARY:New Swarm Collectors Introduction
DESCRIPTION:Content is protected.
URL:https://warleambees.org.uk/event/new-swarm-collectors-introduction-2/
LOCATION:Zoom
CATEGORIES:Swarm Collectors Meeting
ORGANIZER;CN="Richard Pierce":MAILTO:swarms@warleambees.org.uk
END:VEVENT
BEGIN:VEVENT
DTSTART;TZID=Europe/London:20250426T090000
DTEND;TZID=Europe/London:20250427T180000
DTSTAMP:20260424T234520
CREATED:20250225T113508Z
LAST-MODIFIED:20250407T223054Z
UID:12539-1745658000-1745776800@warleambees.org.uk
SUMMARY:Introduction to Beekeeping Course
DESCRIPTION:W&L Beekeepers holds weekend courses in Spring each year\, covering the major basic theory elements of managing honey bees.  The course enables attendees to enjoy looking after their own beehives safely and competently and is a first step in beekeeping. The course complements hands-on training which is available at most of the branches that course participants may wish to join.  Being a Member of Warwick & Leamington Beekeepers is not a pre-requisite to joining our Introduction to Beekeeping Course.\nThe next Introduction to Beekeeping Course will take place on: \nSaturday 26th  9am to 6pm and Sunday 27th April\, 2pm to 6pm \nLimited to 25 participants – course now full \nThe course is aimed at those wishing to start keeping honeybees. You do not have to be a member of our branch to attend this course. Those who subsequently decide to join our branch will be assisted in acquiring honeybees and equipment. They will be eligible to request mentoring support in their first year of beekeeping\, and will be encouraged to attend weekly meetings at the branch apiary in order to gain practical experience.
URL:https://warleambees.org.uk/event/introduction-to-beekeeping-course/
LOCATION:Burton Green Village Hall\, Red Lane\, Coventry\, CV8 1PF\, United Kingdom
CATEGORIES:Education
ORGANIZER;CN="Marie Day":MAILTO:itb@warleambees.org.uk
END:VEVENT
BEGIN:VEVENT
DTSTART;TZID=Europe/London:20250423T090000
DTEND;TZID=Europe/London:20250424T120000
DTSTAMP:20260424T234520
CREATED:20250419T183918Z
LAST-MODIFIED:20250419T194809Z
UID:12839-1745398800-1745496000@warleambees.org.uk
SUMMARY:Kenilworth Castle Apiary working party
DESCRIPTION:Content is protected.
URL:https://warleambees.org.uk/event/kenilworth-castle-apiary-working-party/
LOCATION:Kenilworth Castle\, Castle Road\, Kenilworth\, CV8 1NG\, United Kingdom
CATEGORIES:Work Party
END:VEVENT
BEGIN:VEVENT
DTSTART;TZID=Europe/London:20250417T193000
DTEND;TZID=Europe/London:20250417T213000
DTSTAMP:20260424T234520
CREATED:20250225T105157Z
LAST-MODIFIED:20251119T113857Z
UID:12519-1744918200-1744925400@warleambees.org.uk
SUMMARY:Drone Congregation Areas
DESCRIPTION:Content is protected.
URL:https://warleambees.org.uk/event/drone-congregation-areas/
LOCATION:Kenilworth Senior Citizens Club\, Abbey End\, Kenilworth\, CV8 1QJ\, United Kingdom
CATEGORIES:Members Meeting
ORGANIZER;CN="Judith Masson":MAILTO:meetings@warleambees.org.uk
END:VEVENT
BEGIN:VEVENT
DTSTART;TZID=Europe/London:20250326T193000
DTEND;TZID=Europe/London:20250326T203000
DTSTAMP:20260424T234520
CREATED:20250320T235655Z
LAST-MODIFIED:20251119T113832Z
UID:12637-1743017400-1743021000@warleambees.org.uk
SUMMARY:New Swarm Collectors Introduction
DESCRIPTION:Content is protected.
URL:https://warleambees.org.uk/event/new-swarm-collectors-introduction/
LOCATION:Zoom
CATEGORIES:Swarm Collectors Meeting
ORGANIZER;CN="Richard Pierce":MAILTO:swarms@warleambees.org.uk
END:VEVENT
BEGIN:VEVENT
DTSTART;TZID=Europe/London:20250326T193000
DTEND;TZID=Europe/London:20250326T203000
DTSTAMP:20260424T234520
CREATED:20250319T230000Z
LAST-MODIFIED:20250319T230000Z
UID:12627-1743017400-1743021000@warleambees.org.uk
SUMMARY:WBKA Annual General Meeting
DESCRIPTION:Attendees: WBKA Members \nLook out for an invite in your email in-box and find the documents here: \nhttps://warwickshirebeekeepers.org.uk/members-pages/county-meetings/ \nCome and find out more about your charity and vote for the officers and trustees for the year ahead. Come and ask any questions you have or raise issues that are important to you.
URL:https://warleambees.org.uk/event/wbka-annual-general-meeting/
LOCATION:Zoom
CATEGORIES:WBKA
ORGANIZER;CN="Jane Nimmo":MAILTO:secretary@wbka.org.uk
END:VEVENT
BEGIN:VEVENT
DTSTART;TZID=Europe/London:20250320T193000
DTEND;TZID=Europe/London:20250320T213000
DTSTAMP:20260424T234520
CREATED:20250225T104922Z
LAST-MODIFIED:20251119T113809Z
UID:12517-1742499000-1742506200@warleambees.org.uk
SUMMARY:Hive in the sky
DESCRIPTION:Content is protected.
URL:https://warleambees.org.uk/event/hive-in-the-sky/
LOCATION:Kenilworth Senior Citizens Club\, Abbey End\, Kenilworth\, CV8 1QJ\, United Kingdom
CATEGORIES:Members Meeting
ORGANIZER;CN="Judith Masson":MAILTO:meetings@warleambees.org.uk
END:VEVENT
BEGIN:VEVENT
DTSTART;TZID=Europe/London:20250317T193000
DTEND;TZID=Europe/London:20250317T213000
DTSTAMP:20260424T234520
CREATED:20250319T230445Z
LAST-MODIFIED:20251119T113746Z
UID:12631-1742239800-1742247000@warleambees.org.uk
SUMMARY:Branch Committee Meeting
DESCRIPTION:Content is protected.
URL:https://warleambees.org.uk/event/branch-committee-meeting-3/
LOCATION:BBKA Headquarters\, British Beekeepers Association\, Stoneleigh\, CV8 2LG\, United Kingdom
CATEGORIES:Committee Meeting
ORGANIZER;CN="Chris Cox":MAILTO:secretary@warleambees.org.uk
END:VEVENT
BEGIN:VEVENT
DTSTART;TZID=Europe/London:20250308T100000
DTEND;TZID=Europe/London:20250308T150000
DTSTAMP:20260424T234520
CREATED:20250227T115715Z
LAST-MODIFIED:20250319T224704Z
UID:12601-1741428000-1741446000@warleambees.org.uk
SUMMARY:Craft Demonstration Day
DESCRIPTION:Attendees: Public\n\nA range of craftworkers will be demonstrating their work.\n\nIt will include bee skep making demonstrated by Mike Townsend and Peter Reeve
URL:https://warleambees.org.uk/event/craft-demonstration-day/
LOCATION:Market Hall Museum\, Market Place\, Warwick\, CV34 4SA\, United Kingdom
CATEGORIES:Shows
ORGANIZER;CN="Mike Townsend":MAILTO:michaelatownsend@hotmail.com
END:VEVENT
BEGIN:VEVENT
DTSTART;TZID=Europe/London:20250220T073000
DTEND;TZID=Europe/London:20250220T210000
DTSTAMP:20260424T234520
CREATED:20250219T130255Z
LAST-MODIFIED:20251119T113726Z
UID:12481-1740036600-1740085200@warleambees.org.uk
SUMMARY:Branch Annual General Meeting
DESCRIPTION:Content is protected.
URL:https://warleambees.org.uk/event/branch-annual-general-meeting/
LOCATION:Kenilworth Senior Citizens Club\, Abbey End\, Kenilworth\, CV8 1QJ\, United Kingdom
CATEGORIES:AGM
ORGANIZER;CN="Judith Masson":MAILTO:meetings@warleambees.org.uk
END:VEVENT
END:VCALENDAR